BEGIN:VCALENDAR
VERSION:2.0
PRODID:-//ChamberMaster//Event Calendar 2.0//EN
METHOD:PUBLISH
X-PUBLISHED-TTL:P3D
REFRESH-INTERVAL:P3D
CALSCALE:GREGORIAN
BEGIN:VEVENT
DTSTART:20150116T150000Z
DTEND:20150116T170000Z
X-MICROSOFT-CDO-ALLDAYEVENT:FALSE
SUMMARY:Knapp Medical Center Senior Health Fair
DESCRIPTION:Free and open to all seniors!  Health screenings\, health education\, refreshments\, and giveaways.
X-ALT-DESC;FMTTYPE=text/html:<span style="font-family: arial"><span style="language: en-us"><span style="color: black">Free and open to all seniors!&nbsp\; Health screenings\, health education\, refreshments\, and giveaways. &nbsp\;</span></span></span>
LOCATION:Knapp Conference Center 1801 E. Eighth St.
UID:e.1244.6018
SEQUENCE:3
DTSTAMP:20260424T003139Z
URL:https://business.weslaco.com/events/details/knapp-medical-center-senior-health-fair-01-16-2015-6018
END:VEVENT

END:VCALENDAR
