BEGIN:VCALENDAR
VERSION:2.0
PRODID:-//ChamberMaster//Event Calendar 2.0//EN
METHOD:PUBLISH
X-PUBLISHED-TTL:P3D
REFRESH-INTERVAL:P3D
CALSCALE:GREGORIAN
BEGIN:VEVENT
DTSTART:20170307T183000Z
DTEND:20170307T193000Z
X-MICROSOFT-CDO-ALLDAYEVENT:FALSE
SUMMARY:Knapp Medical Center Senior Health Talk
DESCRIPTION:Senior Health Talk - "Arthritis of the Knee and its Management" by Dr. Michael Sander\, orthopaedic surgeon. Enjoy refreshments and door prizes!
X-ALT-DESC;FMTTYPE=text/html:Senior Health Talk - &quot\;Arthritis of the Knee and its Management&quot\; by Dr. Michael Sander\, orthopaedic surgeon. Enjoy refreshments and door prizes!
LOCATION:Knapp Medical Conference Center 700 Knapp Medical Blvd.
UID:e.1244.11542
SEQUENCE:3
DTSTAMP:20260422T071539Z
URL:https://business.weslaco.com/events/details/knapp-medical-center-senior-health-talk-11542
END:VEVENT

END:VCALENDAR
