BEGIN:VCALENDAR
VERSION:2.0
PRODID:-//ChamberMaster//Event Calendar 2.0//EN
METHOD:PUBLISH
X-PUBLISHED-TTL:P3D
REFRESH-INTERVAL:P3D
CALSCALE:GREGORIAN
BEGIN:VEVENT
DTSTART:20190326T173000Z
DTEND:20190326T183000Z
X-MICROSOFT-CDO-ALLDAYEVENT:FALSE
SUMMARY:Knapp Medical Center Senior Health Talk
DESCRIPTION:Health Talk - "Preventative Medicine" by Dr. Miguel Tello\, family practice physician\, Knapp/UTRGV Family Health Center. Enjoy refreshments and door prizes!
X-ALT-DESC;FMTTYPE=text/html:Health Talk - &quot\;Preventative Medicine&quot\; by Dr. Miguel Tello\, family practice physician\, Knapp/UTRGV Family Health Center. Enjoy refreshments and door prizes!
LOCATION:Knapp Medical Conference Center 700 Knapp Medical Blvd.
UID:e.1244.16961
SEQUENCE:3
DTSTAMP:20260420T145325Z
URL:https://business.weslaco.com/events/details/knapp-medical-center-senior-health-talk-16961
END:VEVENT

END:VCALENDAR
