BEGIN:VCALENDAR
VERSION:2.0
PRODID:-//ChamberMaster//Event Calendar 2.0//EN
METHOD:PUBLISH
X-PUBLISHED-TTL:P3D
REFRESH-INTERVAL:P3D
CALSCALE:GREGORIAN
BEGIN:VEVENT
DTSTART:20140212T160000Z
DTEND:20140213T050000Z
X-MICROSOFT-CDO-ALLDAYEVENT:FALSE
SUMMARY:Knapp Medical Clinic Ribbon Cutting
DESCRIPTION:
X-ALT-DESC;FMTTYPE=text/html:
LOCATION:1609 N. International Blvd. Weslaco\, TX
UID:e.1244.5878
SEQUENCE:3
DTSTAMP:20260424T193945Z
URL:https://business.weslaco.com/events/details/knapp-medical-clinic-ribbon-cutting-02-12-2014-5878
END:VEVENT

END:VCALENDAR
