BEGIN:VCALENDAR
VERSION:2.0
PRODID:-//ChamberMaster//Event Calendar 2.0//EN
METHOD:PUBLISH
X-PUBLISHED-TTL:P3D
REFRESH-INTERVAL:P3D
CALSCALE:GREGORIAN
BEGIN:VEVENT
DTSTART:20151029T210000Z
DTEND:20151029T230000Z
X-MICROSOFT-CDO-ALLDAYEVENT:FALSE
SUMMARY:Knapp Medical Fit n Fun Fall Festival
DESCRIPTION:Knapp Medical Fit n Fun Fall Festival...FREE to the public! Everyone is welcome to attend and participate in a variety of FREE health screenings including a Pulmonary Function Test\, Blood Pressure Screenings and much more. Children are welcome to dress up in their favorite non-scary costumes.  Treats will be available.  Children must be accompanied by an adult.
X-ALT-DESC;FMTTYPE=text/html:Knapp Medical Fit n Fun Fall Festival...FREE to the public! Everyone is welcome to attend and participate in a variety of FREE health screenings including a Pulmonary Function Test\, Blood Pressure Screenings and much more. Children are welcome to dress up in their favorite non-scary costumes. &nbsp\;Treats will be available. &nbsp\;Children must be accompanied by an adult.
LOCATION:Knapp Conference Center 1401 E. Eighth St. Weslaco\, TX
UID:e.1244.8752
SEQUENCE:3
DTSTAMP:20260423T095950Z
URL:https://business.weslaco.com/events/details/knapp-medical-fit-n-fun-fall-festival-10-29-2015-8752
END:VEVENT

END:VCALENDAR
