BEGIN:VCALENDAR
VERSION:2.0
PRODID:-//ChamberMaster//Event Calendar 2.0//EN
METHOD:PUBLISH
X-PUBLISHED-TTL:P3D
REFRESH-INTERVAL:P3D
CALSCALE:GREGORIAN
BEGIN:VEVENT
DTSTART:20191022T173000Z
DTEND:20191022T183000Z
X-MICROSOFT-CDO-ALLDAYEVENT:FALSE
SUMMARY:Knapp Medical Health Talk
DESCRIPTION:The health talk is free and open to the public\, and will include a complimentary light lunch along with a drawing for door prizes   including gift certificates for local restaurants. Breast Cancer Awareness\, presented by Dr. Daniel Farray.
X-ALT-DESC;FMTTYPE=text/html:<span style="font-size: 14px\;">The health talk is free and open to the public\, and will include a complimentary light lunch along with a drawing for door prizes &ndash\; including gift certificates for local restaurants. Breast Cancer Awareness\, presented by Dr. Daniel Farray.</span>
LOCATION:Knapp Conference Center 700 Knapp Medical Boulevard
UID:e.1244.18790
SEQUENCE:3
DTSTAMP:20260420T044323Z
URL:https://business.weslaco.com/events/details/knapp-medical-health-talk-18790
END:VEVENT

END:VCALENDAR
