BEGIN:VCALENDAR
VERSION:2.0
PRODID:-//ChamberMaster//Event Calendar 2.0//EN
METHOD:PUBLISH
X-PUBLISHED-TTL:P3D
REFRESH-INTERVAL:P3D
CALSCALE:GREGORIAN
BEGIN:VEVENT
DTSTART:20181016T173000Z
DTEND:20181016T183000Z
X-MICROSOFT-CDO-ALLDAYEVENT:FALSE
SUMMARY:Knapp Medical Health Talk - Cancer
DESCRIPTION:The health talk is free and open to the public\, and will include a complimentary light lunch along with a drawing for door prizes   including gift certificates for local restaurants. Speakers at the health talk will be Orlando Lopez\, RT(R)\, (CV)\, BAT\, Imaging Services Manager with Knapp Medical Center's Interventional Radiology Lab\; and Christa Palmer\, Physician Assistant for Dr. Daniel Farray and Dr. Habib Ghaddar\, Oncologists with Texas Oncology at the Knapp Medical Plaza building in Weslaco.
X-ALT-DESC;FMTTYPE=text/html:<span style="font-size: 14px\;">The health talk is free and open to the public\, and will include a complimentary light lunch along with a drawing for door prizes &ndash\; including gift certificates for local restaurants. Speakers at the health talk will be Orlando Lopez\, RT(R)\, (CV)\, BAT\, Imaging Services Manager with Knapp Medical Center&rsquo\;s Interventional Radiology Lab\; and Christa Palmer\, Physician Assistant for Dr. Daniel Farray and Dr. Habib Ghaddar\, Oncologists with Texas Oncology at the Knapp Medical Plaza building in Weslaco.</span>
LOCATION:Knapp Conference Center 700 Knapp Medical Boulevard
UID:e.1244.16957
SEQUENCE:3
DTSTAMP:20260421T010919Z
URL:https://business.weslaco.com/events/details/knapp-medical-health-talk-cancer-16957
END:VEVENT

END:VCALENDAR
