BEGIN:VCALENDAR
VERSION:2.0
PRODID:-//ChamberMaster//Event Calendar 2.0//EN
METHOD:PUBLISH
X-PUBLISHED-TTL:P3D
REFRESH-INTERVAL:P3D
CALSCALE:GREGORIAN
BEGIN:VEVENT
DTSTART:20160120T000000Z
DTEND:20160120T010000Z
X-MICROSOFT-CDO-ALLDAYEVENT:FALSE
SUMMARY:Knapp Medical Healthy Valley Seminar
DESCRIPTION:Dr. Robert Sepulveda will discuss heart attacks and how to detect them. Light refreshments and door prizes will be given away.
X-ALT-DESC;FMTTYPE=text/html:Dr. Robert Sepulveda will discuss heart attacks and how to detect them.&nbsp\;Light refreshments and door prizes will be given away.&nbsp\;<span _fck_bookmark="1" style="display: none">&nbsp\;</span>
LOCATION:Knapp Medical Center Conference Center\, Rooms 3 & 4. 1401 E. Eighth St.
UID:e.1244.9089
SEQUENCE:3
DTSTAMP:20260423T053828Z
URL:https://business.weslaco.com/events/details/knapp-medical-healthy-valley-seminar-01-19-2016-9089
END:VEVENT

END:VCALENDAR
