BEGIN:VCALENDAR
VERSION:2.0
PRODID:-//ChamberMaster//Event Calendar 2.0//EN
METHOD:PUBLISH
X-PUBLISHED-TTL:P3D
REFRESH-INTERVAL:P3D
CALSCALE:GREGORIAN
BEGIN:VEVENT
DTSTART:20140122T000000Z
DTEND:20140122T010000Z
X-MICROSOFT-CDO-ALLDAYEVENT:FALSE
SUMMARY:Knapp Medical Healthy Valley Seminar
DESCRIPTION:"A Healthier You" presented by Michelle Solis. Light refreshments and door prizes will be given away.
X-ALT-DESC;FMTTYPE=text/html:&quot\;A Healthier You&quot\; presented by Michelle Solis. Light refreshments and door prizes will be given away.&nbsp\;<span _fck_bookmark="1" style="display: none">&nbsp\;</span>
LOCATION:Knapp Medical Center Conference Center\, Rooms 3 & 4. 1401 E. Eighth St.
UID:e.1244.5870
SEQUENCE:3
DTSTAMP:20260424T231740Z
URL:https://business.weslaco.com/events/details/knapp-medical-healthy-valley-seminar-01-21-2014-5870
END:VEVENT

END:VCALENDAR
