BEGIN:VCALENDAR
VERSION:2.0
PRODID:-//ChamberMaster//Event Calendar 2.0//EN
METHOD:PUBLISH
X-PUBLISHED-TTL:P3D
REFRESH-INTERVAL:P3D
CALSCALE:GREGORIAN
BEGIN:VEVENT
DTSTART:20150304T000000Z
DTEND:20150304T010000Z
X-MICROSOFT-CDO-ALLDAYEVENT:FALSE
SUMMARY:Knapp Medical Healthy Valley Seminar
DESCRIPTION:"Living Beyond a Cancer Diagnosis" presented by Dr. Daniel Farray\, MD. Light refreshments and door prizes will be given away.
X-ALT-DESC;FMTTYPE=text/html:&quot\;Living Beyond a Cancer Diagnosis&quot\; presented by Dr. Daniel Farray\, MD. Light refreshments and door prizes will be given away.&nbsp\;<span _fck_bookmark="1" style="display: none">&nbsp\;</span>
LOCATION:Knapp Medical Center Conference Center\, Rooms 3 & 4. 1401 E. Eighth St.
UID:e.1244.6256
SEQUENCE:3
DTSTAMP:20260423T211920Z
URL:https://business.weslaco.com/events/details/knapp-medical-healthy-valley-seminar-03-03-2015-6256
END:VEVENT

END:VCALENDAR
