BEGIN:VCALENDAR
VERSION:2.0
PRODID:-//ChamberMaster//Event Calendar 2.0//EN
METHOD:PUBLISH
X-PUBLISHED-TTL:P3D
REFRESH-INTERVAL:P3D
CALSCALE:GREGORIAN
BEGIN:VEVENT
DTSTART:20181113T183000Z
DTEND:20181113T193000Z
X-MICROSOFT-CDO-ALLDAYEVENT:FALSE
SUMMARY:Knapp Medical Senior Health Talk - Hip Arthritis Management
DESCRIPTION:Senior Health Talk on Hip Pain presented by Dr. Michael Sander. Refreshments and door prizes will be given.
X-ALT-DESC;FMTTYPE=text/html:Senior Health Talk on Hip Pain presented by Dr. Michael Sander. Refreshments and door prizes will be given.
LOCATION:Knapp Conference Center 700 Knapp Medical Boulevard
UID:e.1244.16959
SEQUENCE:3
DTSTAMP:20260420T232010Z
URL:https://business.weslaco.com/events/details/knapp-medical-senior-health-talk-hip-arthritis-management-16959
END:VEVENT

END:VCALENDAR
