BEGIN:VCALENDAR
VERSION:2.0
PRODID:-//ChamberMaster//Event Calendar 2.0//EN
METHOD:PUBLISH
X-PUBLISHED-TTL:P3D
REFRESH-INTERVAL:P3D
CALSCALE:GREGORIAN
BEGIN:VEVENT
DTSTART:20180327T173000Z
DTEND:20180327T183000Z
X-MICROSOFT-CDO-ALLDAYEVENT:FALSE
SUMMARY:Knapp Medical Senior Health Talk - Peripheral Artery Disease
DESCRIPTION:Senior Health Talk on "Peripheral Artery Disease: Less Invasive Treatments" presented by Dr. Michael DeCandia. Refreshments and door prizes will be given.
X-ALT-DESC;FMTTYPE=text/html:Senior Health Talk on &quot\;Peripheral Artery Disease: Less Invasive Treatments&quot\; presented by Dr. Michael DeCandia. Refreshments and door prizes will be given.
LOCATION:Knapp Conference Center 700 Knapp Medical Boulevard
UID:e.1244.15781
SEQUENCE:3
DTSTAMP:20260421T110552Z
URL:https://business.weslaco.com/events/details/knapp-medical-senior-health-talk-peripheral-artery-disease-15781
END:VEVENT

END:VCALENDAR
