BEGIN:VCALENDAR
VERSION:2.0
PRODID:-//ChamberMaster//Event Calendar 2.0//EN
METHOD:PUBLISH
X-PUBLISHED-TTL:P3D
REFRESH-INTERVAL:P3D
CALSCALE:GREGORIAN
BEGIN:VEVENT
DTSTART:20160106T000000Z
DTEND:20160106T010000Z
X-MICROSOFT-CDO-ALLDAYEVENT:FALSE
SUMMARY:Knapp Medical Valley Health Seminar
DESCRIPTION:Learn about warning signs of having a stroke and its prevention.  Presented by Dr. Dionisio Calvo\, III\, MD.  Light refreshments will be served and door prizes will be given away.
X-ALT-DESC;FMTTYPE=text/html:Learn about warning signs of having a stroke and its prevention. &nbsp\;Presented by Dr. Dionisio Calvo\, III\, MD. &nbsp\;Light refreshments will be served and door prizes will be given away.&nbsp\;<span _fck_bookmark="1" style="display: none">&nbsp\;</span>
LOCATION:Knapp Medical Center Conference Center\, Rooms 3 & 4. 1401 E. Eighth St.
UID:e.1244.9086
SEQUENCE:3
DTSTAMP:20260423T054124Z
URL:https://business.weslaco.com/events/details/knapp-medical-valley-health-seminar-01-05-2016-9086
END:VEVENT

END:VCALENDAR
