BEGIN:VCALENDAR
VERSION:2.0
PRODID:-//ChamberMaster//Event Calendar 2.0//EN
METHOD:PUBLISH
X-PUBLISHED-TTL:P3D
REFRESH-INTERVAL:P3D
CALSCALE:GREGORIAN
BEGIN:VEVENT
DTSTART:20150218T000000Z
DTEND:20150218T010000Z
X-MICROSOFT-CDO-ALLDAYEVENT:FALSE
SUMMARY:Knapp Medical Valley Health Seminar
DESCRIPTION:"Fighting the Flu" by Dr. Jose Campo Maldonado\, M.D. Light refreshments will be served and door prizes will be given away.
X-ALT-DESC;FMTTYPE=text/html:&quot\;Fighting the Flu&quot\; by Dr. Jose Campo Maldonado\, M.D.&nbsp\;Light refreshments will be served and door prizes will be given away.&nbsp\;<span _fck_bookmark="1" style="display: none">&nbsp\;</span>
LOCATION:Knapp Medical Center Conference Center\, Rooms 3 & 4. 1401 E. Eighth St.
UID:e.1244.6047
SEQUENCE:3
DTSTAMP:20260423T224956Z
URL:https://business.weslaco.com/events/details/knapp-medical-valley-health-seminar-02-17-2015-6047
END:VEVENT

END:VCALENDAR
