BEGIN:VCALENDAR
VERSION:2.0
PRODID:-//ChamberMaster//Event Calendar 2.0//EN
METHOD:PUBLISH
X-PUBLISHED-TTL:P3D
REFRESH-INTERVAL:P3D
CALSCALE:GREGORIAN
BEGIN:VEVENT
DTSTART:20150331T230000Z
DTEND:20150401T000000Z
X-MICROSOFT-CDO-ALLDAYEVENT:FALSE
SUMMARY:Knapp Medical Valley Health Seminar
DESCRIPTION:"Colon Health" presented by Dr. Michael Berg\, M.D. Light refreshments will be served and door prizes will be given away.
X-ALT-DESC;FMTTYPE=text/html:&quot\;Colon Health&quot\; presented by Dr. Michael Berg\, M.D.&nbsp\;Light refreshments will be served and door prizes will be given away.&nbsp\;<span _fck_bookmark="1" style="display: none">&nbsp\;</span>
LOCATION:Knapp Medical Center Conference Center\, Rooms 3 & 4. 1401 E. Eighth St.
UID:e.1244.6258
SEQUENCE:3
DTSTAMP:20260423T212140Z
URL:https://business.weslaco.com/events/details/knapp-medical-valley-health-seminar-03-31-2015-6258
END:VEVENT

END:VCALENDAR
