BEGIN:VCALENDAR
VERSION:2.0
PRODID:-//ChamberMaster//Event Calendar 2.0//EN
METHOD:PUBLISH
X-PUBLISHED-TTL:P3D
REFRESH-INTERVAL:P3D
CALSCALE:GREGORIAN
BEGIN:VEVENT
DTSTART:20170720T150000Z
DTEND:20170720T160000Z
X-MICROSOFT-CDO-ALLDAYEVENT:FALSE
SUMMARY:Knapp/UTRGV Family Practice Residency Clinic Ribbon Cutting
DESCRIPTION:
X-ALT-DESC;FMTTYPE=text/html:
LOCATION:2810 W. Expressway 83 (N Mile 2 W Rd) Mercedes\, TX
UID:e.1244.12774
SEQUENCE:3
DTSTAMP:20260421T235459Z
URL:https://business.weslaco.com/events/details/knapp-utrgv-family-practice-residency-clinic-ribbon-cutting-12774
END:VEVENT

END:VCALENDAR
