BEGIN:VCALENDAR
VERSION:2.0
PRODID:-//ChamberMaster//Event Calendar 2.0//EN
METHOD:PUBLISH
X-PUBLISHED-TTL:P3D
REFRESH-INTERVAL:P3D
CALSCALE:GREGORIAN
BEGIN:VEVENT
DTSTART:20160922T210000Z
DTEND:20160922T220000Z
X-MICROSOFT-CDO-ALLDAYEVENT:FALSE
SUMMARY:Kumori Ribbon Cutting
DESCRIPTION:
X-ALT-DESC;FMTTYPE=text/html:
LOCATION:2017 W. Expressway 83 Weslaco\, TX
UID:e.1244.11027
SEQUENCE:3
DTSTAMP:20260422T182157Z
URL:https://business.weslaco.com/events/details/kumori-ribbon-cutting-11027
END:VEVENT

END:VCALENDAR
