BEGIN:VCALENDAR
VERSION:2.0
PRODID:-//ChamberMaster//Event Calendar 2.0//EN
METHOD:PUBLISH
X-PUBLISHED-TTL:P3D
REFRESH-INTERVAL:P3D
CALSCALE:GREGORIAN
BEGIN:VEVENT
DTSTART:20220226T170000Z
DTEND:20220226T200000Z
X-MICROSOFT-CDO-ALLDAYEVENT:FALSE
SUMMARY:La Cebollita Market-February
DESCRIPTION:Market held last Saturday of each month. \n\n*holiday months subject to change
X-ALT-DESC;FMTTYPE=text/html:Market held last Saturday of each month.&nbsp\;<br />\n*holiday months subject to change
LOCATION:Weslaco City Hall Parking Lot 275 S. Kansas\, Weslaco\, TX 78596
UID:e.1244.20600
SEQUENCE:3
DTSTAMP:20260421T203131Z
URL:https://business.weslaco.com/events/details/la-cebollita-market-february-20600
END:VEVENT

END:VCALENDAR
