BEGIN:VCALENDAR
VERSION:2.0
PRODID:-//ChamberMaster//Event Calendar 2.0//EN
METHOD:PUBLISH
X-PUBLISHED-TTL:P3D
REFRESH-INTERVAL:P3D
CALSCALE:GREGORIAN
BEGIN:VEVENT
DTSTART:20211120T160000Z
DTEND:20211120T190000Z
X-MICROSOFT-CDO-ALLDAYEVENT:FALSE
SUMMARY:La Cebollita Mid-Valley Farmers Market-November 2021
DESCRIPTION:La Cebollita Mid Valley Farmers Market is a monthly market with local homegrown products including onions\, and other produce\, unique artesian items\, speciality goods and more! Live entertainment and a comfortable environment to enjoy with family and friends. The name "La Cebollita" which also means little onion\, is a homage to the Weslaco Sweet 1015 onion!
X-ALT-DESC;FMTTYPE=text/html:La Cebollita Mid Valley Farmers Market is a monthly market with local homegrown products including onions\, and other produce\, unique artesian items\, speciality goods and more! Live entertainment and a comfortable environment to enjoy with family and friends. The name &quot\;La Cebollita&quot\; which also means little onion\, is a homage to the Weslaco Sweet 1015 onion!
LOCATION:
UID:e.1244.20566
SEQUENCE:3
DTSTAMP:20260422T014345Z
URL:https://business.weslaco.com/events/details/la-cebollita-mid-valley-farmers-market-november-2021-20566
END:VEVENT

END:VCALENDAR
