BEGIN:VCALENDAR
VERSION:2.0
PRODID:-//ChamberMaster//Event Calendar 2.0//EN
METHOD:PUBLISH
X-PUBLISHED-TTL:P3D
REFRESH-INTERVAL:P3D
CALSCALE:GREGORIAN
BEGIN:VEVENT
DTSTART:20200118T170000Z
DTEND:20200118T190000Z
X-MICROSOFT-CDO-ALLDAYEVENT:FALSE
SUMMARY:Lamar University New Student Mix & Mingle
DESCRIPTION:Calling all students starting online class January 21st!\n\n\n\nCongratulations on your acceptance to Lamar University. We are excited that you are beginning your degree program in January!\n\n\n\nTo celebrate\, you're invited to a Mix & Mingle reception at the Lamar University Student Service Center in McAllen on Saturday\, January 18!  If you are not a student but are interested in learning more about their online degree programs\, make plans to attend!\n\n\n\nKick off your studies by meeting your fellow online students\, enjoy refreshments and enter a raffle for LU swag.
X-ALT-DESC;FMTTYPE=text/html:Calling all students starting online class January 21st!<br />\n<br />\nCongratulations on your acceptance to Lamar University. We are excited that you are beginning your degree program in January!<br />\n<br />\nTo celebrate\, you&rsquo\;re invited to a Mix &amp\; Mingle reception at the Lamar University Student Service Center in McAllen on Saturday\, January 18!&nbsp\; If you are not a student but are interested in learning more about their online degree programs\, make plans to attend!<br />\n<br />\nKick off your studies by meeting your fellow online students\, enjoy refreshments and enter a raffle for LU swag.
LOCATION:Lamar University Student Center 2808 W. Expressway 83\, Ste. 120 McAllen\, TX 78501
UID:e.1244.19293
SEQUENCE:3
DTSTAMP:20260419T214923Z
URL:https://business.weslaco.com/events/details/lamar-university-new-student-mix-mingle-19293
END:VEVENT

END:VCALENDAR
