BEGIN:VCALENDAR
VERSION:2.0
PRODID:-//ChamberMaster//Event Calendar 2.0//EN
METHOD:PUBLISH
X-PUBLISHED-TTL:P3D
REFRESH-INTERVAL:P3D
CALSCALE:GREGORIAN
BEGIN:VEVENT
DTSTART:20170223T233000Z
DTEND:20170224T010000Z
X-MICROSOFT-CDO-ALLDAYEVENT:FALSE
SUMMARY:Leadership Mid Valley After Hours Mixer
DESCRIPTION:Leadership Mid Valley will host a Business After Hours Mixer in honor of Class XII on Thursday\, February 23 at 5:30 pm at the Weslaco Business Visitor & Event Center.  Sponsored by LaserLux\, the mixer will give the business community a chance to meet this year's class members and learn more about the program.  The Weslaco Business Visitor and Event Center is located at 275 S. Kansas.
X-ALT-DESC;FMTTYPE=text/html:<span style="font-family:calibri\,sans-serif\;"><span style="font-size:11.0pt\;">Leadership Mid Valley will host a Business After Hours Mixer in honor of Class XII on Thursday\, February 23 at 5:30 pm at the Weslaco Business Visitor &amp\; Event Center.&nbsp\; Sponsored by LaserLux\, the mixer will give the business community a chance to meet this year&rsquo\;s class members and learn more about the program.&nbsp\; The Weslaco Business Visitor and Event Center is located at 275 S. Kansas. </span></span>
LOCATION:Business Visitor & Event Center 275 S. Kansas\, Weslaco
UID:e.1244.11532
SEQUENCE:3
DTSTAMP:20260422T083748Z
URL:https://business.weslaco.com/events/details/leadership-mid-valley-after-hours-mixer-11532
END:VEVENT

END:VCALENDAR
