BEGIN:VCALENDAR
VERSION:2.0
PRODID:-//ChamberMaster//Event Calendar 2.0//EN
METHOD:PUBLISH
X-PUBLISHED-TTL:P3D
REFRESH-INTERVAL:P3D
CALSCALE:GREGORIAN
BEGIN:VEVENT
DTSTART:20180118T233000Z
DTEND:20180119T010000Z
X-MICROSOFT-CDO-ALLDAYEVENT:FALSE
SUMMARY:Leadership Mid Valley After Hours Mixer sponsored by Knapp Medical Center
DESCRIPTION:Leadership Mid Valley will host a Business After Hours Mixer in honor of Class XIII on Thursday\, January 18 at 5:30 pm at the Weslaco Business Visitor & Event Center.  Sponsored by Knapp Medical Center\, the mixer will give the business community a chance to meet this year?s class members and learn more about the program.  The Weslaco Business Visitor and Event Center is located at 275 S. Kansas.
X-ALT-DESC;FMTTYPE=text/html:<span style="font-family:calibri\,sans-serif\;"><span style="font-size:11.0pt\;">Leadership Mid Valley will host a Business After Hours Mixer in honor of Class XIII on Thursday\, January 18 at 5:30 pm at the Weslaco Business Visitor &amp\; Event Center.&nbsp\; Sponsored by Knapp Medical Center\, the mixer will give the business community a chance to meet this year?s class members and learn more about the program.&nbsp\; The Weslaco Business Visitor and Event Center is located at 275 S. Kansas. </span></span>
LOCATION:Business Visitor & Event Center 275 S. Kansas\, Weslaco
UID:e.1244.14470
SEQUENCE:3
DTSTAMP:20260421T143018Z
URL:https://business.weslaco.com/events/details/leadership-mid-valley-after-hours-mixer-sponsored-by-knapp-medical-center-14470
END:VEVENT

END:VCALENDAR
