BEGIN:VCALENDAR
VERSION:2.0
PRODID:-//ChamberMaster//Event Calendar 2.0//EN
METHOD:PUBLISH
X-PUBLISHED-TTL:P3D
REFRESH-INTERVAL:P3D
CALSCALE:GREGORIAN
BEGIN:VEVENT
DTSTART:20191017T223000Z
DTEND:20191018T000000Z
X-MICROSOFT-CDO-ALLDAYEVENT:FALSE
SUMMARY:Leadership Mid Valley Business After Hours sponsored by Capital Title of Texas
DESCRIPTION:Join us for a Business After Hours Mixer in honor of Leadership Mid Valley Class XV. Sponsored and hosted by Capital Title of Texas.
X-ALT-DESC;FMTTYPE=text/html:Join us for a Business After Hours Mixer in honor of Leadership Mid Valley Class XV. Sponsored and hosted by Capital Title of Texas.
LOCATION:Capital Title of Texas 2290 W. Pike\, Ste.101 Weslaco\, TX
UID:e.1244.18777
SEQUENCE:3
DTSTAMP:20260420T032213Z
URL:https://business.weslaco.com/events/details/leadership-mid-valley-business-after-hours-sponsored-by-capital-title-of-texas-18777
END:VEVENT

END:VCALENDAR
