BEGIN:VCALENDAR
VERSION:2.0
PRODID:-//ChamberMaster//Event Calendar 2.0//EN
METHOD:PUBLISH
X-PUBLISHED-TTL:P3D
REFRESH-INTERVAL:P3D
CALSCALE:GREGORIAN
BEGIN:VEVENT
DTSTART:20160120T233000Z
DTEND:20160121T010000Z
X-MICROSOFT-CDO-ALLDAYEVENT:FALSE
SUMMARY:Leadership Mid Valley Mixer
DESCRIPTION:Come meet this year's participants of Leadership Mid-Valley Class XI at an after hours mixer.
X-ALT-DESC;FMTTYPE=text/html:Come meet this year&#39\;s participants of Leadership Mid-Valley Class XI at an after hours mixer. &nbsp\; &nbsp\;
LOCATION:Weslaco Business Visitor & Event Center 275 S. Kansas
UID:e.1244.9095
SEQUENCE:3
DTSTAMP:20260423T053501Z
URL:https://business.weslaco.com/events/details/leadership-mid-valley-mixer-01-20-2016-9095
END:VEVENT

END:VCALENDAR
