BEGIN:VCALENDAR
VERSION:2.0
PRODID:-//ChamberMaster//Event Calendar 2.0//EN
METHOD:PUBLISH
X-PUBLISHED-TTL:P3D
REFRESH-INTERVAL:P3D
CALSCALE:GREGORIAN
BEGIN:VEVENT
DTSTART:20190813T223000Z
DTEND:20190814T000000Z
X-MICROSOFT-CDO-ALLDAYEVENT:FALSE
SUMMARY:Leadership Mid Valley Recruitment Mixer
DESCRIPTION:Come learn about everything Leadership Mid Valley has to offer. This year's steering committee and alumni will be on hand to answer any questions you may have about the program.  Refreshments will be served.
X-ALT-DESC;FMTTYPE=text/html:Come learn about everything Leadership Mid Valley has to offer. This year&rsquo\;s steering committee and alumni will be on hand to answer any questions you may have about the program.&nbsp\;&nbsp\;Refreshments will be served.
LOCATION:Business Visitor & Event Center 275 S. Kansas Weslaco
UID:e.1244.18721
SEQUENCE:3
DTSTAMP:20260420T062259Z
URL:https://business.weslaco.com/events/details/leadership-mid-valley-recruitment-mixer-18721
END:VEVENT

END:VCALENDAR
