BEGIN:VCALENDAR
VERSION:2.0
PRODID:-//ChamberMaster//Event Calendar 2.0//EN
METHOD:PUBLISH
X-PUBLISHED-TTL:P3D
REFRESH-INTERVAL:P3D
CALSCALE:GREGORIAN
BEGIN:VEVENT
DTSTART:20180405T230000Z
DTEND:20180406T013000Z
X-MICROSOFT-CDO-ALLDAYEVENT:FALSE
SUMMARY:Leadership Mid Valley Wine and Cheese Fundraiser
DESCRIPTION:Leadership Mid Valley XIII will host a Wine and Cheese Fundraiser for their class project and fundraiser on Thursday\, April 5 from 6 pm to 8:30 pm. Enjoy fine wine\, refreshments\, networking and a silent auction! All proceeds will go towards the Leadership Mid Valley's class project and trip to Austin.\n\nTickets are $25\, sponsorships available. Contact Melissa at 956-373-5817 for more information.
X-ALT-DESC;FMTTYPE=text/html:<span class="_4n-j _3cht fsl" data-testid="event-permalink-details">Leadership Mid Valley XIII will host a Wine and Cheese Fundraiser for their class project and fundraiser on Thursday\, April 5 from 6 pm to 8:30 pm. Enjoy fine wine\, refreshments\, networking and a silent auction! All proceeds will go towards the Leadership Mid Valley&#39\;s class project and trip to Austin.<br />\nTickets are $25\, sponsorships available. Contact Melissa at 956-373-5817 for more information.</span>
LOCATION:Knapp Conference Center 700 Knapp Medical Blvd.
UID:e.1244.15853
SEQUENCE:3
DTSTAMP:20260421T093425Z
URL:https://business.weslaco.com/events/details/leadership-mid-valley-wine-and-cheese-fundraiser-15853
END:VEVENT

END:VCALENDAR
