BEGIN:VCALENDAR
VERSION:2.0
PRODID:-//ChamberMaster//Event Calendar 2.0//EN
METHOD:PUBLISH
X-PUBLISHED-TTL:P3D
REFRESH-INTERVAL:P3D
CALSCALE:GREGORIAN
BEGIN:VEVENT
DTSTART:20181221T003000Z
DTEND:20181221T023000Z
X-MICROSOFT-CDO-ALLDAYEVENT:FALSE
SUMMARY:Leadership Mid Valley XIV Merry Masquerade Mixer
DESCRIPTION:Wine\, beer\, appetizers\, live music and silent auction. Funds will support the Mid Valley Leadership Class XIV.
X-ALT-DESC;FMTTYPE=text/html:Wine\, beer\, appetizers\, live music and silent auction. Funds will support the Mid Valley Leadership Class XIV.
LOCATION:Villa de Cortez 260 S. Texas Blvd\, Ste. 400 Weslaco\, TX
UID:e.1244.17032
SEQUENCE:3
DTSTAMP:20260420T194714Z
URL:https://business.weslaco.com/events/details/leadership-mid-valley-xiv-merry-masquerade-mixer-17032
END:VEVENT

END:VCALENDAR
