BEGIN:VCALENDAR
VERSION:2.0
PRODID:-//ChamberMaster//Event Calendar 2.0//EN
METHOD:PUBLISH
X-PUBLISHED-TTL:P3D
REFRESH-INTERVAL:P3D
CALSCALE:GREGORIAN
BEGIN:VEVENT
DTSTART:20180410T160000Z
DTEND:20180411T030000Z
X-MICROSOFT-CDO-ALLDAYEVENT:FALSE
SUMMARY:Lemonade Day at Raising Cane's
DESCRIPTION:Swing by Raising Cane's on Westgate and purchase a refreshing lemonade. $1 for every lemonade sold will go towards Raising Cane's Lemonade Day\, an initiative designed to help today's youth become the business leaders\, social advocates\, community volunteers and forward-thinking citizens of tomorrow...one lemonade stand at a time!
X-ALT-DESC;FMTTYPE=text/html:Swing by Raising Cane&#39\;s on Westgate and purchase a refreshing lemonade. $1 for every lemonade sold will go towards Raising Cane&#39\;s Lemonade Day\, an initiative designed to help today&rsquo\;s youth become the business leaders\, social advocates\, community volunteers and forward-thinking citizens of tomorrow...one lemonade stand at a time!
LOCATION:Raising Cane's Weslaco
UID:e.1244.15860
SEQUENCE:3
DTSTAMP:20260421T093245Z
URL:https://business.weslaco.com/events/details/lemonade-day-at-raising-cane-s-15860
END:VEVENT

END:VCALENDAR
