BEGIN:VCALENDAR
VERSION:2.0
PRODID:-//ChamberMaster//Event Calendar 2.0//EN
METHOD:PUBLISH
X-PUBLISHED-TTL:P3D
REFRESH-INTERVAL:P3D
CALSCALE:GREGORIAN
BEGIN:VEVENT
DTSTART:20131207T160000Z
DTEND:20131207T180000Z
X-MICROSOFT-CDO-ALLDAYEVENT:FALSE
SUMMARY:Lets Open A Can Of Worms at the Valley Nature Center!
DESCRIPTION:Join us for a special presentaion by Mario Garza. Mr. Garza focuses his efforts to promote the unique flora and fauna that exist in the RGV. This presentation will show us how we can preserve and possibly grow the remaining valley habitat through education and modifying our household habits.  Coffee and pastries will be available.
X-ALT-DESC;FMTTYPE=text/html:Join us for a special presentaion by Mario Garza.&nbsp\;Mr. Garza focuses his efforts to promote the unique flora and fauna that exist in the RGV.&nbsp\;This presentation will show us how we can preserve and possibly grow the remaining valley habitat through education and modifying our household habits. &nbsp\;Coffee and pastries will be available. 
LOCATION:301 South Border Ave. Weslaco\, Tx 78596
UID:e.1244.4806
SEQUENCE:3
DTSTAMP:20260424T231842Z
URL:https://business.weslaco.com/events/details/lets-open-a-can-of-worms-at-the-valley-nature-center-12-07-2013-4806
END:VEVENT

END:VCALENDAR
