BEGIN:VCALENDAR
VERSION:2.0
PRODID:-//ChamberMaster//Event Calendar 2.0//EN
METHOD:PUBLISH
X-PUBLISHED-TTL:P3D
REFRESH-INTERVAL:P3D
CALSCALE:GREGORIAN
BEGIN:VEVENT
DTSTART:20160518T140000Z
DTEND:20160518T170000Z
X-MICROSOFT-CDO-ALLDAYEVENT:FALSE
SUMMARY:Listening to your Business Seminar
DESCRIPTION:In this seminar\, you learn by doing.  Workshop facilitators guide you through a process of reflection\, vision and planning leveraging their own entrepreneurial experiences. You'll leave the course motivated and confident about the future of your business.  Once your three-year vision is documented\, consider applying for UTRGV ScaleUp.  This program includes a 10-week curriculum on the FastTrac Growth Venture to engage in step-by-step implementation with experienced leaders and a global network of peers!\n\nIn this FREE workshop\, learn how to:\n\n\n	Examine your business with a strength\, weakness and opportunities model\n	Visualize your business three years from now\n	Develop an appropriate plan of action to grow your business\n\nBrought to you by ScaleUp Hidalgo Co\, UTRGV\, Weslaco EDC
X-ALT-DESC;FMTTYPE=text/html:<p>In this seminar\, you learn by doing. &nbsp\;Workshop facilitators guide you through a process of reflection\, vision and planning leveraging their own entrepreneurial experiences. You&#39\;ll leave the course motivated and confident about the future of your business. &nbsp\;Once your three-year vision is documented\, consider applying for UTRGV ScaleUp. &nbsp\;This program includes a 10-week curriculum on the FastTrac Growth Venture to engage in step-by-step implementation with experienced leaders and a global network of peers!</p>\n\n<p>In this FREE workshop\, learn how to:</p>\n\n<ul>\n	<li>Examine your business with a strength\, weakness and opportunities model</li>\n	<li>Visualize your business three years from now</li>\n	<li>Develop an appropriate plan of action to grow your business</li>\n</ul>\nBrought to you by ScaleUp Hidalgo Co\, UTRGV\, Weslaco EDC&nbsp\;
LOCATION:Business Visitor and Event Center 275 S. Kansas Ave Weslaco\, TX
UID:e.1244.10959
SEQUENCE:3
DTSTAMP:20260423T005954Z
URL:https://business.weslaco.com/events/details/listening-to-your-business-seminar-05-18-2016-10959
END:VEVENT

END:VCALENDAR
