BEGIN:VCALENDAR
VERSION:2.0
PRODID:-//ChamberMaster//Event Calendar 2.0//EN
METHOD:PUBLISH
X-PUBLISHED-TTL:P3D
REFRESH-INTERVAL:P3D
CALSCALE:GREGORIAN
BEGIN:VEVENT
DTSTART:20170630T220000Z
DTEND:20170630T230000Z
X-MICROSOFT-CDO-ALLDAYEVENT:FALSE
SUMMARY:Little Miracles Learning Center Ribbon Cutting
DESCRIPTION:
X-ALT-DESC;FMTTYPE=text/html:
LOCATION:1221 E. 10th St\, Ste. 102 Weslaco\, TX
UID:e.1244.12754
SEQUENCE:3
DTSTAMP:20260422T013506Z
URL:https://business.weslaco.com/events/details/little-miracles-learning-center-ribbon-cutting-12754
END:VEVENT

END:VCALENDAR
