BEGIN:VCALENDAR
VERSION:2.0
PRODID:-//ChamberMaster//Event Calendar 2.0//EN
METHOD:PUBLISH
X-PUBLISHED-TTL:P3D
REFRESH-INTERVAL:P3D
CALSCALE:GREGORIAN
BEGIN:VEVENT
DTSTART:20150130T003000Z
DTEND:20150130T040000Z
X-MICROSOFT-CDO-ALLDAYEVENT:FALSE
SUMMARY:Little Nashville in Mercedes
DESCRIPTION:The best in country music in the Valley with Mr. Whiskey and Barbed Wire. You don't want to miss this epic night!\n\nHead over to Downtown Mercedes in front of Historic City Hall for an evening of music\, food and fun for the whole family on January 29 starting at 6:30 pm!
X-ALT-DESC;FMTTYPE=text/html:<span style="font-size:12px\;">The best in country music in the Valley with Mr. Whiskey and Barbed Wire.&nbsp\;You don&#39\;t want to miss this epic night!<br />\nHead over to Downtown Mercedes in front of&nbsp\;Historic City Hall for an evening of music\, food and fun for the whole family on January 29&nbsp\;starting at 6:30 pm!</span><br />\n&nbsp\;
LOCATION:Ohio and 4th Street Mercedes\, TX
UID:e.1244.6021
SEQUENCE:3
DTSTAMP:20260424T002857Z
URL:https://business.weslaco.com/events/details/little-nashville-in-mercedes-01-29-2015-6021
END:VEVENT

END:VCALENDAR
