BEGIN:VCALENDAR
VERSION:2.0
PRODID:-//ChamberMaster//Event Calendar 2.0//EN
METHOD:PUBLISH
X-PUBLISHED-TTL:P3D
REFRESH-INTERVAL:P3D
CALSCALE:GREGORIAN
BEGIN:VEVENT
DTSTART:20160226T000000Z
DTEND:20160226T030000Z
X-MICROSOFT-CDO-ALLDAYEVENT:FALSE
SUMMARY:Little Nashville in Mercedes
DESCRIPTION:The best in country music in the Valley! Head over to Downtown Mercedes in front of Historic City Hall for an evening of music\, food and fun for the whole family. Live music by Serjio & Ropin' the Wind and The John Gonzalez Band.
X-ALT-DESC;FMTTYPE=text/html:<span style="font-size:12px\;">The best in country music in the Valley!&nbsp\;Head over to Downtown Mercedes in front of&nbsp\;Historic City Hall for an evening of music\, food and fun for the whole family. Live music by Serjio &amp\; Ropin&#39\; the Wind and The John Gonzalez Band.</span><br />\n&nbsp\;
LOCATION:Ohio and 4th Street Mercedes\, TX
UID:e.1244.9125
SEQUENCE:3
DTSTAMP:20260423T040945Z
URL:https://business.weslaco.com/events/details/little-nashville-in-mercedes-02-25-2016-9125
END:VEVENT

END:VCALENDAR
