BEGIN:VCALENDAR
VERSION:2.0
PRODID:-//ChamberMaster//Event Calendar 2.0//EN
METHOD:PUBLISH
X-PUBLISHED-TTL:P3D
REFRESH-INTERVAL:P3D
CALSCALE:GREGORIAN
BEGIN:VEVENT
DTSTART:20150529T000000Z
DTEND:20150529T020000Z
X-MICROSOFT-CDO-ALLDAYEVENT:FALSE
SUMMARY:Little Nashville in Mercedes
DESCRIPTION:The best in country music in the Valley with Smoking Gun and Brady Honeycutt. You don't want to miss this epic night!\n\nHead over to Downtown Mercedes in front of Historic City Hall for an evening of music\, food and fun for the whole family.
X-ALT-DESC;FMTTYPE=text/html:<span style="font-size:12px\;">The best in country music in the Valley with Smoking Gun and Brady Honeycutt.&nbsp\;You don&#39\;t want to miss this epic night!<br />\nHead over to Downtown Mercedes in front of&nbsp\;Historic City Hall for an evening of music\, food and fun for the whole family.</span><br />\n&nbsp\;
LOCATION:Ohio and 4th Street Mercedes\, TX
UID:e.1244.6277
SEQUENCE:3
DTSTAMP:20260423T181232Z
URL:https://business.weslaco.com/events/details/little-nashville-in-mercedes-05-28-2015-6277
END:VEVENT

END:VCALENDAR
