BEGIN:VCALENDAR
VERSION:2.0
PRODID:-//ChamberMaster//Event Calendar 2.0//EN
METHOD:PUBLISH
X-PUBLISHED-TTL:P3D
REFRESH-INTERVAL:P3D
CALSCALE:GREGORIAN
BEGIN:VEVENT
DTSTART:20150626T000000Z
DTEND:20150626T020000Z
X-MICROSOFT-CDO-ALLDAYEVENT:FALSE
SUMMARY:Little Nashville in Mercedes
DESCRIPTION:The best in country music in the Valley with Midnight Run and Southern Ashes.\n\nHead over to Downtown Mercedes in front of Historic City Hall for an evening of music\, food and fun for the whole family.
X-ALT-DESC;FMTTYPE=text/html:<span style="font-size:12px\;">The best in country music in the Valley with Midnight Run and Southern Ashes.<br />\nHead over to Downtown Mercedes in front of&nbsp\;Historic City Hall for an evening of music\, food and fun for the whole family.</span><br />\n&nbsp\;
LOCATION:Ohio and 4th Street Mercedes\, TX
UID:e.1244.6687
SEQUENCE:3
DTSTAMP:20260423T162626Z
URL:https://business.weslaco.com/events/details/little-nashville-in-mercedes-06-25-2015-6687
END:VEVENT

END:VCALENDAR
