BEGIN:VCALENDAR
VERSION:2.0
PRODID:-//ChamberMaster//Event Calendar 2.0//EN
METHOD:PUBLISH
X-PUBLISHED-TTL:P3D
REFRESH-INTERVAL:P3D
CALSCALE:GREGORIAN
BEGIN:VEVENT
DTSTART:20150925T000000Z
DTEND:20150925T020000Z
X-MICROSOFT-CDO-ALLDAYEVENT:FALSE
SUMMARY:Little Nashville in Mercedes
DESCRIPTION:The best in country music in the Valley! Head over to Downtown Mercedes in front of Historic City Hall for an evening of music\, food and fun for the whole family. Live music by Sergio & Ropin the Wind and Roy Solis.
X-ALT-DESC;FMTTYPE=text/html:<span style="font-size:12px\;">The best in country music in the Valley!&nbsp\;Head over to Downtown Mercedes in front of&nbsp\;Historic City Hall for an evening of music\, food and fun for the whole family. Live music by Sergio &amp\; Ropin the Wind and Roy Solis.</span><br />\n&nbsp\;
LOCATION:Ohio and 4th Street Mercedes\, TX
UID:e.1244.8737
SEQUENCE:3
DTSTAMP:20260423T113316Z
URL:https://business.weslaco.com/events/details/little-nashville-in-mercedes-09-24-2015-8737
END:VEVENT

END:VCALENDAR
