BEGIN:VCALENDAR
VERSION:2.0
PRODID:-//ChamberMaster//Event Calendar 2.0//EN
METHOD:PUBLISH
X-PUBLISHED-TTL:P3D
REFRESH-INTERVAL:P3D
CALSCALE:GREGORIAN
BEGIN:VEVENT
DTSTART:20140926T000000Z
DTEND:20140926T030000Z
X-MICROSOFT-CDO-ALLDAYEVENT:FALSE
SUMMARY:Little Nashville in Mercedes
DESCRIPTION:The best in country music in the Valley with Kikker Daddy - Country Roland's legacy band and Wink's Wild Horses!  You don't want to miss this epic night!\n\nHead over to Downtown Mercedes in front of Historic City Hall for an evening of music\, food and fun for the whole family on September 25th starting at 7pm!
X-ALT-DESC;FMTTYPE=text/html:<span style="font-size:12px\;">The best in country music in the Valley with Kikker Daddy - Country Roland&#39\;s legacy band and Wink&#39\;s Wild Horses! &nbsp\;You don&#39\;t want to miss this epic night!<br />\nHead over to Downtown Mercedes in front of&nbsp\;Historic City Hall for an evening of music\, food and fun for the whole family on September 25th starting at 7pm!</span><br />\n&nbsp\;
LOCATION:Ohio and 4th Street Mercedes\, TX
UID:e.1244.5954
SEQUENCE:3
DTSTAMP:20260424T083233Z
URL:https://business.weslaco.com/events/details/little-nashville-in-mercedes-09-25-2014-5954
END:VEVENT

END:VCALENDAR
