BEGIN:VCALENDAR
VERSION:2.0
PRODID:-//ChamberMaster//Event Calendar 2.0//EN
METHOD:PUBLISH
X-PUBLISHED-TTL:P3D
REFRESH-INTERVAL:P3D
CALSCALE:GREGORIAN
BEGIN:VEVENT
DTSTART:20170127T000000Z
DTEND:20170127T030000Z
X-MICROSOFT-CDO-ALLDAYEVENT:FALSE
SUMMARY:Little Nashville in Mercedes
DESCRIPTION:The best in country music in the Valley! Head over to Downtown Mercedes in front of Historic City Hall for an evening of music\, food and fun for the whole family.\n\nLive music by the Yard Dawgs\, Kikker Daddy and Ruthie.
X-ALT-DESC;FMTTYPE=text/html:<p><span style="font-size:12px\;">The best in country music in the Valley!&nbsp\;Head over to Downtown Mercedes in front of&nbsp\;Historic City Hall for an evening of music\, food and fun for the whole family.</span><br />\nLive music by the Yard Dawgs\, Kikker Daddy and Ruthie.<br />\n&nbsp\;</p>\n
LOCATION:Ohio and 4th Street Mercedes\, TX
UID:e.1244.11517
SEQUENCE:3
DTSTAMP:20260422T115550Z
URL:https://business.weslaco.com/events/details/little-nashville-in-mercedes-11517
END:VEVENT

END:VCALENDAR
