BEGIN:VCALENDAR
VERSION:2.0
PRODID:-//ChamberMaster//Event Calendar 2.0//EN
METHOD:PUBLISH
X-PUBLISHED-TTL:P3D
REFRESH-INTERVAL:P3D
CALSCALE:GREGORIAN
BEGIN:VEVENT
DTSTART:20170727T230000Z
DTEND:20170728T020000Z
X-MICROSOFT-CDO-ALLDAYEVENT:FALSE
SUMMARY:Little Nashville in Mercedes
DESCRIPTION:The best in country music in the Valley! Head over to Downtown Mercedes in front of Historic City Hall for an evening of music\, food and fun for the whole family.\n\nLive music by Marshall Law Band.  Free rocking tailgate party! Bring your lawnchairs and enjoy music and fun\, vendors\, arts & crafts and more.
X-ALT-DESC;FMTTYPE=text/html:<p><span style="font-size:12px\;">The best in country music in the Valley!&nbsp\;Head over to Downtown Mercedes in front of&nbsp\;Historic City Hall for an evening of music\, food and fun for the whole family.</span><br />\nLive music by Marshall Law Band.&nbsp\; Free rocking tailgate party! Bring your lawnchairs and enjoy music and fun\, vendors\, arts &amp\; crafts and more.</p>\n
LOCATION:Ohio and 4th Street Mercedes\, TX
UID:e.1244.12777
SEQUENCE:3
DTSTAMP:20260421T235316Z
URL:https://business.weslaco.com/events/details/little-nashville-in-mercedes-12777
END:VEVENT

END:VCALENDAR
