BEGIN:VCALENDAR
VERSION:2.0
PRODID:-//ChamberMaster//Event Calendar 2.0//EN
METHOD:PUBLISH
X-PUBLISHED-TTL:P3D
REFRESH-INTERVAL:P3D
CALSCALE:GREGORIAN
BEGIN:VEVENT
DTSTART:20190213T000000Z
DTEND:20190213T013000Z
X-MICROSOFT-CDO-ALLDAYEVENT:FALSE
SUMMARY:Live and Learn Lecture
DESCRIPTION:Frontera Audubon is bringing a Live & Learn lecture series to the mid-valley this fall and winter. Every other Tuesday there will be a presentation at 6 pm in the Visitors' Center open to the public.\n\n\n\nContinuing our February lectures is Joe Vidales and his El Sal Del Rey Presentation.\n\n\n\nJoe Vidales is a Weslaco native. He was a college teacher of Psychology and retired in 2010. He now volunteers at the Weslaco Museum and has become a researcher\, historian\, and presenter.
X-ALT-DESC;FMTTYPE=text/html:<span>Frontera Audubon is bringing a Live &amp\; Learn lecture series to the mid-valley this fall and winter. Every other Tuesday there will be a presentation at 6 pm in the Visitors&#39\; Center open to the public.<br />\n<br />\nContinuing our February lectures is Joe Vidales and his El Sal Del Rey Presentation.<br />\n<br />\nJoe Vidales is a Weslaco native. He was a college teacher of Psychology and retired in 2010. He now volunteers at the Weslaco Museum and has become a researcher\, historian\, and presenter.</span><br />\n<br />\n<br />\n&nbsp\;
LOCATION:Frontera Audubon 1101 S. Texas Blvd.\, Weslaco\, Texas 78596
UID:e.1244.17082
SEQUENCE:3
DTSTAMP:20260420T175157Z
URL:https://business.weslaco.com/events/details/live-and-learn-lecture-17082
END:VEVENT

END:VCALENDAR
