BEGIN:VCALENDAR
VERSION:2.0
PRODID:-//ChamberMaster//Event Calendar 2.0//EN
METHOD:PUBLISH
X-PUBLISHED-TTL:P3D
REFRESH-INTERVAL:P3D
CALSCALE:GREGORIAN
BEGIN:VEVENT
DTSTART:20190109T000000Z
DTEND:20190109T013000Z
X-MICROSOFT-CDO-ALLDAYEVENT:FALSE
SUMMARY:Live and Learn Lecture Series at Frontera Audubon
DESCRIPTION:rontera Audubon is bringing a Live & Learn lecture series to the mid-valley this fall and winter. Every other Tuesday there will be a presentation at 6:30 pm in the Visitors' Center open to the public.\n\n\n\nKicking off the Live & Learn Lecture Series the month of January is Angelina Vasquez with her presentation on the birds and butterflies of Frontera Audubon. This lecture series is open to the public and donations are welcome.
X-ALT-DESC;FMTTYPE=text/html:<span>rontera Audubon is bringing a Live &amp\; Learn lecture series to the mid-valley this fall and winter. Every other Tuesday there will be a presentation at 6:30 pm in the Visitors&#39\; Center open to the public.<br />\n<br />\nKicking off the Live &amp\; Learn Lecture Series the month of January is Angelina Vasquez with her presentation on the birds and butterflies of Frontera Audubon. This lecture series is open to the public and donations are welcome. </span>
LOCATION:Frontera Audubon 1101 S. Texas Blvd.
UID:e.1244.17045
SEQUENCE:3
DTSTAMP:20260420T175533Z
URL:https://business.weslaco.com/events/details/live-and-learn-lecture-series-at-frontera-audubon-17045
END:VEVENT

END:VCALENDAR
