BEGIN:VCALENDAR
VERSION:2.0
PRODID:-//ChamberMaster//Event Calendar 2.0//EN
METHOD:PUBLISH
X-PUBLISHED-TTL:P3D
REFRESH-INTERVAL:P3D
CALSCALE:GREGORIAN
BEGIN:VEVENT
DTSTART:20190206T000000Z
DTEND:20190206T013000Z
X-MICROSOFT-CDO-ALLDAYEVENT:FALSE
SUMMARY:Live and Learn Lecture Series at Frontera Audubon
DESCRIPTION:Frontera Audubon is bringing a Live & Learn lecture series to the mid-valley this fall and winter. Every other Tuesday there will be a presentation at 6 pm in the Visitors' Center open to the public.\n\n\n\nKicking off our February lectures is Steve Norris & Sue Keefer.\n\nFollowing Darwin's Footsteps: Wildlife Watching and Birding the Galapagos\n\n\n\nAfter a career running children's summer camps\, then living aboard a sailboat & working for Vermont State Parks\, Sue Keefer and Steve Norris have spent winters volunteering at Estero Llano Grande State Park and summers helping out at Rachel Carson National Wildlife Refuge in Maine\, trying to keep invasive plants at bay\, and leading bird\, butterfly\, tide-pool\, history & photography programs. In the winter of 2017-18\, Sue and Steve acted on a long-standing bucket list item. Their love of Ecuador compelled them to visit to the Galapagos Islands - the "Showcase of Evolution."\n\n\n\nTheir original plan for a "non-bird-centric" trip soon fell apart as they realized that\, although the Galapagos have "only" 178 species of birds\, the 29 resident and 22 endemic species are a fascinating study. From the breathtaking nesting colony of Waved Albatross to the inquisitive endemic Mockingbirds\, bird life in the Galapagos is quite a treat. Close-up observation and study of Darwin Finches is a real-life exercise in the what's\, why's\, and how's of evolution! The non-flying fauna is equally interesting with large colonies of sea lions\, marine and land iguanas and\, of course\, giant tortoises. It became readily apparent why the Galapagos are a unique and invaluable natural resource worthy of intense protection.\n\n\n\nDarwin's two month stay in the Galapagos in 1835 led to a new biology based on a unifying theory of evolution. Sue and Steve's say their stay on the islands left them feeling rather inadequate in their own "naturalist" skills! Darwin\, like most early naturalists\, left the island with many sketches and specimens to study\; Sue & Steve brought away many photographs and memories of unique living things they observed. We know you will get caught up in the fun and entertaining style of these enthusiastic laidback educators as they share their observations of the animals\, plants\, and environment that make the Galapagos special.\n\n\n\nEnjoy re-living their adventures with them at\n\nFrontera Audubon Nature Center on Tuesday February 5\, 2019\n\n\n\n\n\nNext in the Live & Learn Lecture Series:\n\nTuesday\, February 12th |\n\nJoe Vidales: El Sal Del Rey Presentation
X-ALT-DESC;FMTTYPE=text/html:<span>Frontera Audubon is bringing a Live &amp\; Learn lecture series to the mid-valley this fall and winter. Every other Tuesday there will be a presentation at 6 pm in the Visitors&#39\; Center open to the public.<br />\n<br />\nKicking off our February lectures is Steve Norris &amp\; Sue Keefer.<br />\nFollowing Darwin&rsquo\;s Footsteps: Wildlife Watching and Birding the Galapagos<br />\n<br />\nAfter a career running children&#39\;s summer camps\, then living aboard a sailboat &amp\; working for Vermont State Parks\, Sue Keefer and Steve Norris have spent winters volunteering at Estero Llano Grande State Park and summers helping out at Rachel Carson National Wildlife Refuge in Maine\, trying to keep invasive plants at bay\, and leading bird\, butterfly\, tide-pool\, history &amp\; photography programs. In the winter of 2017-18\, Sue and Steve acted on a long-standing bucket list item. Their love of Ecuador compelled them to visit to the Galapagos Islands - the &quot\;Showcase of Evolution.&quot\;<br />\n<br />\nTheir original plan for a &quot\;non-bird-centric&quot\; trip soon fell apart as they realized that\, although the Galapagos have &quot\;only&quot\; 178 species of birds\, the 29 resident and 22 endemic species are a fascinating study. From the breathtaking nesting colony of Waved Albatross to the inquisitive endemic Mockingbirds\, bird life in the Galapagos is quite a treat. Close-up observation and study of Darwin Finches is a real-life exercise in the what&#39\;s\, why&#39\;s\, and how&#39\;s of evolution! The non-flying fauna is equally interesting with large colonies of sea lions\, marine and land iguanas and\, of course\, giant tortoises. It became readily apparent why the Galapagos are a unique and invaluable natural resource worthy of intense protection.<br />\n<br />\nDarwin&rsquo\;s two month stay in the Galapagos in 1835 led to a new biology based on a unifying theory of evolution. Sue and Steve&#39\;s say their stay on the islands left them feeling rather inadequate in their own &quot\;naturalist&quot\; skills! Darwin\, like most early naturalists\, left the island with many sketches and specimens to study\; Sue &amp\; Steve brought away many photographs and memories of unique living things they observed. We know you will get caught up in the fun and entertaining style of these enthusiastic laidback educators as they share their observations of the animals\, plants\, and environment that make the Galapagos special.<br />\n<br />\nEnjoy re-living their adventures with them at<br />\nFrontera Audubon Nature Center on Tuesday February 5\, 2019<br />\n<br />\n<br />\nNext in the Live &amp\; Learn Lecture Series:<br />\nTuesday\, February 12th |<br />\nJoe Vidales: El Sal Del Rey Presentation</span>
LOCATION:1101 South Texas Blvd Weslaco\, TX
UID:e.1244.17080
SEQUENCE:3
DTSTAMP:20260420T162858Z
URL:https://business.weslaco.com/events/details/live-and-learn-lecture-series-at-frontera-audubon-17080
END:VEVENT

END:VCALENDAR
