BEGIN:VCALENDAR
VERSION:2.0
PRODID:-//ChamberMaster//Event Calendar 2.0//EN
METHOD:PUBLISH
X-PUBLISHED-TTL:P3D
REFRESH-INTERVAL:P3D
CALSCALE:GREGORIAN
BEGIN:VEVENT
DTSTART:20180317T010000Z
DTEND:20180317T030000Z
X-MICROSOFT-CDO-ALLDAYEVENT:FALSE
SUMMARY:Live Music at Weslaco's Daily Grind
DESCRIPTION:Enjoy the talent of local musicians at Weslaco's Daily Grind. No cover charge. Sign up sheets available on the Daily Grind Facebook page: https://www.facebook.com/events/146944155962114/
X-ALT-DESC;FMTTYPE=text/html:Enjoy the talent of local musicians at Weslaco&#39\;s Daily Grind. No cover charge. Sign up sheets available on the Daily Grind Facebook page: <a href="https://www.facebook.com/events/146944155962114/">https://www.facebook.com/events/146944155962114/</a>
LOCATION:409 S. Missouri Weslaco\, TX
UID:e.1244.14529
SEQUENCE:3
DTSTAMP:20260421T110318Z
URL:https://business.weslaco.com/events/details/live-music-at-weslaco-s-daily-grind-14529
END:VEVENT

END:VCALENDAR
