BEGIN:VCALENDAR
VERSION:2.0
PRODID:-//ChamberMaster//Event Calendar 2.0//EN
METHOD:PUBLISH
X-PUBLISHED-TTL:P3D
REFRESH-INTERVAL:P3D
CALSCALE:GREGORIAN
BEGIN:VEVENT
DTSTART:20180728T010000Z
DTEND:20180728T030000Z
X-MICROSOFT-CDO-ALLDAYEVENT:FALSE
SUMMARY:Live Music at Weslaco's Daily Grind
DESCRIPTION:Live music by Special 4-way mix up featuring:\n\nJoel Brogon\n\nManny Carrizales\n\nPamela Munoz\n\nBenny Ybarra
X-ALT-DESC;FMTTYPE=text/html:<span>Live music by Special 4-way mix up featuring:<br />\nJoel Brogon<br />\nManny Carrizales<br />\nPamela Munoz<br />\nBenny Ybarra</span>
LOCATION:Weslaco's Daily Grind 409 S. Missouri
UID:e.1244.16942
SEQUENCE:3
DTSTAMP:20260421T042213Z
URL:https://business.weslaco.com/events/details/live-music-at-weslaco-s-daily-grind-16942
END:VEVENT

END:VCALENDAR
