BEGIN:VCALENDAR
VERSION:2.0
PRODID:-//ChamberMaster//Event Calendar 2.0//EN
METHOD:PUBLISH
X-PUBLISHED-TTL:P3D
REFRESH-INTERVAL:P3D
CALSCALE:GREGORIAN
BEGIN:VEVENT
DTSTART:20160308T160000Z
DTEND:20160308T170000Z
X-MICROSOFT-CDO-ALLDAYEVENT:FALSE
SUMMARY:Llano Grande Hynes Event Center Ribbon Cutting
DESCRIPTION:
X-ALT-DESC;FMTTYPE=text/html:
LOCATION:
UID:e.1244.10935
SEQUENCE:3
DTSTAMP:20260423T023233Z
URL:https://business.weslaco.com/events/details/llano-grande-hynes-event-center-ribbon-cutting-03-08-2016-10935
END:VEVENT

END:VCALENDAR
