BEGIN:VCALENDAR
VERSION:2.0
PRODID:-//ChamberMaster//Event Calendar 2.0//EN
METHOD:PUBLISH
X-PUBLISHED-TTL:P3D
REFRESH-INTERVAL:P3D
CALSCALE:GREGORIAN
BEGIN:VEVENT
DTSTART;VALUE=DATE:20230607
DTEND;VALUE=DATE:20230608
TRANSP:TRANSPARENT
X-MICROSOFT-CDO-ALLDAYEVENT:TRUE
SUMMARY:LMV Graduation 2023
DESCRIPTION:Congrats to the 2023 Leadership Mid-Valley Class XVII on the completion of the program!
X-ALT-DESC;FMTTYPE=text/html:Congrats to the 2023 Leadership Mid-Valley Class XVII on the completion of the program!&nbsp\;&nbsp\; &nbsp\;&nbsp\;&nbsp\;&nbsp\;&nbsp\;&nbsp\;&nbsp\;&nbsp\;&nbsp\;&nbsp\;
LOCATION:Greet & Gather Event Center
UID:e.1244.21856
SEQUENCE:3
DTSTAMP:20260420T165857Z
URL:https://business.weslaco.com/events/details/lmv-graduation-2023-21856
END:VEVENT

END:VCALENDAR
