BEGIN:VCALENDAR
VERSION:2.0
PRODID:-//ChamberMaster//Event Calendar 2.0//EN
METHOD:PUBLISH
X-PUBLISHED-TTL:P3D
REFRESH-INTERVAL:P3D
CALSCALE:GREGORIAN
BEGIN:VEVENT
DTSTART:20170506T190000Z
DTEND:20170506T210000Z
X-MICROSOFT-CDO-ALLDAYEVENT:FALSE
SUMMARY:Local Authors Meet and Greet at Mayor Joe V. Sanchez Public Library
DESCRIPTION:Mayor Joe V. Sanchez Public Library invites the public to meet local authors on Saturday\, May 6. The event will take place at the Eugene Braught Memorial Theatre. The authors will read excerpts from their books and talk about their works.  They will be available to sell and sign books\, as well as answer questions.\n\nParticipants include Mary Humpal Bain\, Rey A. Banda\, Ana A. Cavazos\, Iona Cordero\, Alejandro Cabada Fernandez\, Maria Luna\, Ramon Ramirez\, Patty Raymond\, Katelynn Renteria\, Victor Rivera and Richard Sanchez.
X-ALT-DESC;FMTTYPE=text/html:Mayor Joe V. Sanchez Public Library invites the public to meet local authors on Saturday\, May 6. The event will take place at the Eugene Braught Memorial Theatre. The authors will read excerpts from their books and talk about their works.&nbsp\; They will be available to sell and sign books\, as well as answer questions.<br />\nParticipants include Mary Humpal Bain\, Rey A. Banda\, Ana A. Cavazos\, Iona Cordero\, Alejandro Cabada Fernandez\, Maria Luna\, Ramon Ramirez\, Patty Raymond\, Katelynn Renteria\, Victor Rivera and Richard Sanchez.
LOCATION:Mayor Joe V. Sanchez Public Library 525 S. Kansas
UID:e.1244.12033
SEQUENCE:3
DTSTAMP:20260422T053155Z
URL:https://business.weslaco.com/events/details/local-authors-meet-and-greet-at-mayor-joe-v-sanchez-public-library-12033
END:VEVENT

END:VCALENDAR
