BEGIN:VCALENDAR
VERSION:2.0
PRODID:-//ChamberMaster//Event Calendar 2.0//EN
METHOD:PUBLISH
X-PUBLISHED-TTL:P3D
REFRESH-INTERVAL:P3D
CALSCALE:GREGORIAN
BEGIN:VEVENT
DTSTART:20160416T180000Z
DTEND:20160416T210000Z
X-MICROSOFT-CDO-ALLDAYEVENT:FALSE
SUMMARY:Local Authors Meet & Greet
DESCRIPTION:Join us for our second annual Local Authors Meet & Greet from 1:00 to 4:00 PM on Saturday\, April 16. Here is your chance to discover new authors or meet familiar ones from around the Rio Grande Valley. In addition\, books will be available for purchase and signing. Don't miss this wonderful event!
X-ALT-DESC;FMTTYPE=text/html:Join us for our second annual Local Authors Meet &amp\; Greet from 1:00 to 4:00&nbsp\;PM on Saturday\, April 16. Here is your chance to discover new authors or meet familiar ones from around the Rio Grande Valley. In addition\, books will be available for purchase and signing. Don&rsquo\;t miss this wonderful event!
LOCATION:Mayor Joe V. Sanchez Public Library
UID:e.1244.10940
SEQUENCE:3
DTSTAMP:20260423T022743Z
URL:https://business.weslaco.com/events/details/local-authors-meet-greet-04-16-2016-10940
END:VEVENT

END:VCALENDAR
