BEGIN:VCALENDAR
VERSION:2.0
PRODID:-//ChamberMaster//Event Calendar 2.0//EN
METHOD:PUBLISH
X-PUBLISHED-TTL:P3D
REFRESH-INTERVAL:P3D
CALSCALE:GREGORIAN
BEGIN:VEVENT
DTSTART:20191204T000000Z
DTEND:20191204T023000Z
X-MICROSOFT-CDO-ALLDAYEVENT:FALSE
SUMMARY:Lone Star National Bank Christmas Posada
DESCRIPTION:Come and enjoy food\, music\, and prizes!
X-ALT-DESC;FMTTYPE=text/html:Come and enjoy food\, music\, and prizes!
LOCATION:Lone Star National Bank 620 W. Expressway 83 Weslaco\, TX
UID:e.1244.18837
SEQUENCE:3
DTSTAMP:20260420T012120Z
URL:https://business.weslaco.com/events/details/lone-star-national-bank-christmas-posada-18837
END:VEVENT

END:VCALENDAR
