BEGIN:VCALENDAR
VERSION:2.0
PRODID:-//ChamberMaster//Event Calendar 2.0//EN
METHOD:PUBLISH
X-PUBLISHED-TTL:P3D
REFRESH-INTERVAL:P3D
CALSCALE:GREGORIAN
BEGIN:VEVENT
DTSTART:20160727T183000Z
DTEND:20160727T193000Z
X-MICROSOFT-CDO-ALLDAYEVENT:FALSE
SUMMARY:LRGVDC - CIEDO Ribbon Cutting Ceremony
DESCRIPTION:Center for International Economic Development celebrates the grand opening of its facility.
X-ALT-DESC;FMTTYPE=text/html:Center for International Economic Development celebrates the grand opening of its facility.&nbsp\;
LOCATION:301 W. Railroad Weslaco\, TX
UID:e.1244.10991
SEQUENCE:3
DTSTAMP:20260422T215130Z
URL:https://business.weslaco.com/events/details/lrgvdc-ciedo-ribbon-cutting-ceremony-07-27-2016-10991
END:VEVENT

END:VCALENDAR
